BEGIN:VCALENDAR
VERSION:2.0
PRODID:-//Sabre//Sabre VObject 4.5.7//EN
CALSCALE:GREGORIAN
BEGIN:VEVENT
UID:sabre-vobject-a68cd101-87da-46da-b7d5-4cce010448b1
DTSTAMP:20260424T021243Z
SUMMARY:Journée de Pitch du Festival À travers Champs
LOCATION:au Cinéma Plaza (Hotton)
DTSTART;TZID=Europe/Paris:20260320T163000
DTEND;TZID=Europe/Paris:20260320T180000
END:VEVENT
END:VCALENDAR
