BEGIN:VCALENDAR
VERSION:2.0
PRODID:-//Sabre//Sabre VObject 4.5.7//EN
CALSCALE:GREGORIAN
BEGIN:VEVENT
UID:sabre-vobject-a9e983a7-17b4-4900-966a-57bfb0ef7a06
DTSTAMP:20260420T095207Z
SUMMARY:Résidence à Passa Porta (automne 2025)
LOCATION:
DTSTART;TZID=Europe/Paris:20250627T000000
DTEND;TZID=Europe/Paris:20250627T000000
END:VEVENT
END:VCALENDAR
