BEGIN:VCALENDAR
VERSION:2.0
PRODID:-//Sabre//Sabre VObject 4.5.7//EN
CALSCALE:GREGORIAN
BEGIN:VEVENT
UID:sabre-vobject-5e14d729-944e-47e8-bac5-32cc60984aeb
DTSTAMP:20260424T020845Z
SUMMARY:Séance d'installation et d'information du Laboratoire d’Expérim
 entation des Pratiques IA gen
LOCATION:à la MEDAA
DTSTART;TZID=Europe/Paris:20260323T123000
DTEND;TZID=Europe/Paris:20260323T150000
END:VEVENT
END:VCALENDAR
